BEGIN:VCALENDAR
VERSION:2.0
PRODID:-//wp-events-plugin.com//7.2.3.1//EN
BEGIN:VEVENT
UID:8@friendsofpenleehouse.org.uk
DTSTART:20231011T183000Z
DTEND:20231011T200000Z
DTSTAMP:20230908T130647Z
URL:https://friendsofpenleehouse.org.uk/events/a-passion-for-cornish-art-5
 0-years-of-private-collecting-private-view/
SUMMARY:A Passion for Cornish Art: 50 Years of Private Collecting Private V
 iew
DESCRIPTION:The exhibition is being opened by John Branfield owner of The M
 ingose Collection
ATTACH;FMTTYPE=image/jpeg:https://friendsofpenleehouse.org.uk/wp-content/u
 ploads/2023/09/John-Anthony-Park-–-Seawards-Penberth-FOR-PRESS-RELEASE.j
 pg
END:VEVENT
END:VCALENDAR