BEGIN:VCALENDAR
VERSION:2.0
PRODID:-//wp-events-plugin.com//7.2.3.1//EN
BEGIN:VEVENT
UID:20@friendsofpenleehouse.org.uk
DTSTART:20241011T183000Z
DTEND:20241011T200000Z
DTSTAMP:20240924T111359Z
URL:https://friendsofpenleehouse.org.uk/events/exhibition-private-view-flo
 ra-150-years-of-environmental-change-in-cornwall/
SUMMARY:Exhibition Private View: Flora 150 Years of Environmental Change in
  Cornwall
DESCRIPTION:This autumn Penlee House Gallery & Museum is staging an exhibit
 ion about the flora of West Cornwall curated by internationally renowned a
 rtist Kurt Jackson. 
ATTACH;FMTTYPE=image/jpeg:https://friendsofpenleehouse.org.uk/wp-content/u
 ploads/2024/09/Kurt-Jackson-Trevider-Pool-tadpoles-move-the-water-catkins-
 float-on-the-surface-warblers-sing-in-the-willows-as-the-royal-ferns-unfur
 l-in-front-of-me-2024-mixed-media-on-wood-60-x-60cm.jpg
END:VEVENT
END:VCALENDAR