BEGIN:VCALENDAR
VERSION:2.0
PRODID:-//wp-events-plugin.com//7.2.3.1//EN
BEGIN:VEVENT
UID:33@friendsofpenleehouse.org.uk
DTSTART:20251017T183000Z
DTEND:20251017T200000Z
DTSTAMP:20250910T094127Z
URL:https://friendsofpenleehouse.org.uk/events/exhibition-private-view-lam
 orna-birch-a-painter-laureate-and-biddy-picard-timeless-penwith/
SUMMARY:Exhibition Private View: Lamorna Birch: a Painter Laureate and Bidd
 y Picard: Timeless Penwith
DESCRIPTION:Private View: Lamorna Birch: a Painter Laureate’ and `Biddy P
 icard: Timeless Penwith’. Free\, no need to book.
ATTACH;FMTTYPE=image/jpeg:https://friendsofpenleehouse.org.uk/wp-content/u
 ploads/2025/09/Screenshot-2025-09-10-102429.png
END:VEVENT
END:VCALENDAR