BEGIN:VCALENDAR
VERSION:2.0
PRODID:-//wp-events-plugin.com//7.2.3.1//EN
BEGIN:VEVENT
UID:14@friendsofpenleehouse.org.uk
DTSTART:20240626T190000Z
DTEND:20240626T210000Z
DTSTAMP:20240423T092754Z
URL:https://friendsofpenleehouse.org.uk/events/lecture-harold-harvey-paint
 er-of-cornwall-with-alison-bevan-director-of-rwa-bristol/
SUMMARY:Lecture: Harold Harvey Painter of Cornwall with Alison Bevan\, Dire
 ctor of RWA\, Bristol
DESCRIPTION:Join us for an enlightening evening as we welcome Alison Bevan 
 BEM BA FMA\, Director of the RWA\, Bristol (Royal West of England Academy)
 \, for an illustrated lecture on the renowned artist Harold Harvey.
ATTACH;FMTTYPE=image/jpeg:https://friendsofpenleehouse.org.uk/wp-content/u
 ploads/2024/04/Harvey-harold-The-Donkey-Meadow-1924-Private-Collection.jpg
END:VEVENT
END:VCALENDAR